BEGIN:VCALENDAR
VERSION:2.0
PRODID:-//horsealert.local//NONSGML kigkonsult.se iCalcreator 2.10.5//
CALSCALE:GREGORIAN
X-WR-TIMEZONE:Europe/Dublin
BEGIN:VTIMEZONE
TZID:Etc/GMT-1
BEGIN:STANDARD
DTSTART:20010101T000000
TZOFFSETFROM:+0100
TZOFFSETTO:+0100
TZNAME:GMT +01:00
END:STANDARD
END:VTIMEZONE
BEGIN:VEVENT
UID:20260425T123755CEST-3584UvDhlO@horsealert.local
DTSTAMP:20260425T100455Z
CATEGORIES:Horse Alerts
DESCRIPTION:Tramore Amusement Park & Leisure Centre Handicap Hurdle \(80-10
 2\)
DTSTART:20130818T162500
LOCATION:Eire
SUMMARY:Horse Racing:Tramore Amusement Park & Leisure Centre Handicap Hurdl
 e \(80-102\)
END:VEVENT
END:VCALENDAR
