BEGIN:VCALENDAR
VERSION:2.0
PRODID:-//horsealert.local//NONSGML kigkonsult.se iCalcreator 2.10.5//
CALSCALE:GREGORIAN
X-WR-TIMEZONE:Europe/Dublin
BEGIN:VTIMEZONE
TZID:Etc/GMT-1
BEGIN:STANDARD
DTSTART:20010101T000000
TZOFFSETFROM:+0100
TZOFFSETTO:+0100
TZNAME:GMT +01:00
END:STANDARD
END:VTIMEZONE
BEGIN:VEVENT
UID:20260425T123942CEST-4205C5OTno@horsealert.local
DTSTAMP:20260425T100442Z
CATEGORIES:Horse Alerts
DESCRIPTION:Littlewoods Ireland Style Evening At Tramore Races Flat Race
DTSTART:20130817T195000
LOCATION:Eire
SUMMARY:Horse Racing:Littlewoods Ireland Style Evening At Tramore Races Fla
 t Race
END:VEVENT
END:VCALENDAR
