BEGIN:VCALENDAR
VERSION:2.0
PRODID:-//horsealert.local//NONSGML kigkonsult.se iCalcreator 2.10.5//
CALSCALE:GREGORIAN
X-WR-TIMEZONE:Europe/Dublin
BEGIN:VTIMEZONE
TZID:Etc/GMT-1
BEGIN:STANDARD
DTSTART:20010101T000000
TZOFFSETFROM:+0100
TZOFFSETTO:+0100
TZNAME:GMT +01:00
END:STANDARD
END:VTIMEZONE
BEGIN:VEVENT
UID:20260425T123949CEST-9721VztVMs@horsealert.local
DTSTAMP:20260425T100449Z
CATEGORIES:Horse Alerts
DESCRIPTION:Betfred Better Odds On Goals Galore E.B.F. Maiden Fillies\' Sta
 kes
DTSTART:20130817T133500
LOCATION:England
SUMMARY:Horse Racing:Betfred Better Odds On Goals Galore E.B.F. Maiden Fill
 ies\' Stakes
END:VEVENT
END:VCALENDAR
