BEGIN:VCALENDAR
VERSION:2.0
PRODID:-//horsealert.local//NONSGML kigkonsult.se iCalcreator 2.10.5//
CALSCALE:GREGORIAN
X-WR-TIMEZONE:Europe/Dublin
BEGIN:VTIMEZONE
TZID:Etc/GMT-1
BEGIN:STANDARD
DTSTART:20010101T000000
TZOFFSETFROM:+0100
TZOFFSETTO:+0100
TZNAME:GMT +01:00
END:STANDARD
END:VTIMEZONE
BEGIN:VEVENT
UID:20260425T123956CEST-7388TUafet@horsealert.local
DTSTAMP:20260425T100456Z
CATEGORIES:Horse Alerts
DESCRIPTION:Big Thank You To Causeway Steel Employees Claiming Stakes \(AWT
 \)
DTSTART:20130817T193000
LOCATION:England
SUMMARY:Horse Racing:Big Thank You To Causeway Steel Employees Claiming Sta
 kes \(AWT\)
END:VEVENT
END:VCALENDAR
