BEGIN:VCALENDAR
VERSION:2.0
PRODID:-//horsealert.local//NONSGML kigkonsult.se iCalcreator 2.10.5//
CALSCALE:GREGORIAN
X-WR-TIMEZONE:Europe/Dublin
BEGIN:VTIMEZONE
TZID:Etc/GMT-1
BEGIN:STANDARD
DTSTART:20010101T000000
TZOFFSETFROM:+0100
TZOFFSETTO:+0100
TZNAME:GMT +01:00
END:STANDARD
END:VTIMEZONE
BEGIN:VEVENT
UID:20260425T124138CEST-7168nCzUuj@horsealert.local
DTSTAMP:20260425T100438Z
CATEGORIES:Horse Alerts
DESCRIPTION:Follow At tramoreraces On Twitter Rated Race
DTSTART:20130816T182000
LOCATION:Eire
SUMMARY:Horse Racing:Follow At tramoreraces On Twitter Rated Race
END:VEVENT
END:VCALENDAR
