BEGIN:VCALENDAR
VERSION:2.0
PRODID:-//horsealert.local//NONSGML kigkonsult.se iCalcreator 2.10.5//
CALSCALE:GREGORIAN
X-WR-TIMEZONE:Europe/Dublin
BEGIN:VTIMEZONE
TZID:Etc/GMT-1
BEGIN:STANDARD
DTSTART:20010101T000000
TZOFFSETFROM:+0100
TZOFFSETTO:+0100
TZNAME:GMT +01:00
END:STANDARD
END:VTIMEZONE
BEGIN:VEVENT
UID:20260425T124126CEST-5601N8RxZZ@horsealert.local
DTSTAMP:20260425T100426Z
CATEGORIES:Horse Alerts
DESCRIPTION:Guillaume D\'Ornano Stakes \(Group 2\)
DTSTART:20130815T145500
LOCATION:France
SUMMARY:Horse Racing:Guillaume D\'Ornano Stakes \(Group 2\)
END:VEVENT
END:VCALENDAR
