BEGIN:VCALENDAR
VERSION:2.0
PRODID:-//horsealert.local//NONSGML kigkonsult.se iCalcreator 2.10.5//
CALSCALE:GREGORIAN
X-WR-TIMEZONE:Europe/Dublin
BEGIN:VTIMEZONE
TZID:Etc/GMT-1
BEGIN:STANDARD
DTSTART:20010101T000000
TZOFFSETFROM:+0100
TZOFFSETTO:+0100
TZNAME:GMT +01:00
END:STANDARD
END:VTIMEZONE
BEGIN:VEVENT
UID:20260425T124120CEST-0018mNMcfV@horsealert.local
DTSTAMP:20260425T100420Z
CATEGORIES:Horse Alerts
DESCRIPTION:Stevens Garnier Ltd Nursery
DTSTART:20130814T145000
LOCATION:England
SUMMARY:Horse Racing:Stevens Garnier Ltd Nursery
END:VEVENT
END:VCALENDAR
