BEGIN:VCALENDAR
VERSION:2.0
PRODID:-//horsealert.local//NONSGML kigkonsult.se iCalcreator 2.10.5//
CALSCALE:GREGORIAN
X-WR-TIMEZONE:Europe/Dublin
BEGIN:VTIMEZONE
TZID:Etc/GMT-1
BEGIN:STANDARD
DTSTART:20010101T000000
TZOFFSETFROM:+0100
TZOFFSETTO:+0100
TZNAME:GMT +01:00
END:STANDARD
END:VTIMEZONE
BEGIN:VEVENT
UID:20260425T175309CEST-3582kkTttz@horsealert.local
DTSTAMP:20260425T150409Z
CATEGORIES:Horse Alerts
DESCRIPTION:Book Your Christmas Party At Leicester Handicap \(The Sunday 5k
  Bonus Race\)
DTSTART:20130811T165500
LOCATION:England
SUMMARY:Horse Racing:Book Your Christmas Party At Leicester Handicap \(The 
 Sunday 5k Bonus Race\)
END:VEVENT
END:VCALENDAR
