BEGIN:VCALENDAR
VERSION:2.0
PRODID:-//horsealert.local//NONSGML kigkonsult.se iCalcreator 2.10.5//
CALSCALE:GREGORIAN
X-WR-TIMEZONE:Europe/Dublin
BEGIN:VTIMEZONE
TZID:Etc/GMT-1
BEGIN:STANDARD
DTSTART:20010101T000000
TZOFFSETFROM:+0100
TZOFFSETTO:+0100
TZNAME:GMT +01:00
END:STANDARD
END:VTIMEZONE
BEGIN:VEVENT
UID:20260425T142621CEST-0755L5mVWf@horsealert.local
DTSTAMP:20260425T120421Z
CATEGORIES:Horse Alerts
DESCRIPTION:Breed German-Buy German-Win German Handicap
DTSTART:20130810T161000
LOCATION:England
SUMMARY:Horse Racing:Breed German-Buy German-Win German Handicap
END:VEVENT
END:VCALENDAR
