BEGIN:VCALENDAR
VERSION:2.0
PRODID:-//horsealert.local//NONSGML kigkonsult.se iCalcreator 2.10.5//
CALSCALE:GREGORIAN
X-WR-TIMEZONE:Europe/Dublin
BEGIN:VTIMEZONE
TZID:Etc/GMT-1
BEGIN:STANDARD
DTSTART:20010101T000000
TZOFFSETFROM:+0100
TZOFFSETTO:+0100
TZNAME:GMT +01:00
END:STANDARD
END:VTIMEZONE
BEGIN:VEVENT
UID:20260425T124120CEST-9104eJtNNi@horsealert.local
DTSTAMP:20260425T100420Z
CATEGORIES:Horse Alerts
DESCRIPTION:Thomson Removals And Self Storage Handicap \(Qualifier For 15\,
 000 Betfair Scottish Stayers\' Series Final\)
DTSTART:20130810T203500
LOCATION:Scotland
SUMMARY:Horse Racing:Thomson Removals And Self Storage Handicap \(Qualifier
  For 15\,000 Betfair Scottish Stayers\' Series Final\)
END:VEVENT
END:VCALENDAR
