BEGIN:VCALENDAR
VERSION:2.0
PRODID:-//horsealert.local//NONSGML kigkonsult.se iCalcreator 2.10.5//
CALSCALE:GREGORIAN
X-WR-TIMEZONE:Europe/Dublin
BEGIN:VTIMEZONE
TZID:Etc/GMT-1
BEGIN:STANDARD
DTSTART:20010101T000000
TZOFFSETFROM:+0100
TZOFFSETTO:+0100
TZNAME:GMT +01:00
END:STANDARD
END:VTIMEZONE
BEGIN:VEVENT
UID:20260425T124044CEST-3414iPUan8@horsealert.local
DTSTAMP:20260425T100444Z
CATEGORIES:Horse Alerts
DESCRIPTION:Greene King Festival 17th-19th September Apprentice Handicap
DTSTART:20130808T173000
LOCATION:England
SUMMARY:Horse Racing:Greene King Festival 17th-19th September Apprentice Ha
 ndicap
END:VEVENT
END:VCALENDAR
