BEGIN:VCALENDAR
VERSION:2.0
PRODID:-//horsealert.local//NONSGML kigkonsult.se iCalcreator 2.10.5//
CALSCALE:GREGORIAN
X-WR-TIMEZONE:Europe/Dublin
BEGIN:VTIMEZONE
TZID:Etc/GMT-1
BEGIN:STANDARD
DTSTART:20010101T000000
TZOFFSETFROM:+0100
TZOFFSETTO:+0100
TZNAME:GMT +01:00
END:STANDARD
END:VTIMEZONE
BEGIN:VEVENT
UID:20260425T124134CEST-8346WWk4UU@horsealert.local
DTSTAMP:20260425T100434Z
CATEGORIES:Horse Alerts
DESCRIPTION:petesmithcarsales.co.uk & johnoshearacing.co.uk Handicap \(Lady
  Amateur Riders\)
DTSTART:20130808T171500
LOCATION:Wales
SUMMARY:Horse Racing:petesmithcarsales.co.uk & johnoshearacing.co.uk Handic
 ap \(Lady Amateur Riders\)
END:VEVENT
END:VCALENDAR
