BEGIN:VCALENDAR
VERSION:2.0
PRODID:-//horsealert.local//NONSGML kigkonsult.se iCalcreator 2.10.5//
CALSCALE:GREGORIAN
X-WR-TIMEZONE:Europe/Dublin
BEGIN:VTIMEZONE
TZID:Etc/GMT-1
BEGIN:STANDARD
DTSTART:20010101T000000
TZOFFSETFROM:+0100
TZOFFSETTO:+0100
TZNAME:GMT +01:00
END:STANDARD
END:VTIMEZONE
BEGIN:VEVENT
UID:20260425T124136CEST-8434M7UdoG@horsealert.local
DTSTAMP:20260425T100436Z
CATEGORIES:Horse Alerts
DESCRIPTION:BetVictor.com/British Stallion Studs E.B.F. Maiden Stakes
DTSTART:20130806T193000
LOCATION:England
SUMMARY:Horse Racing:BetVictor.com/British Stallion Studs E.B.F. Maiden Sta
 kes
END:VEVENT
END:VCALENDAR
