BEGIN:VCALENDAR
VERSION:2.0
PRODID:-//horsealert.local//NONSGML kigkonsult.se iCalcreator 2.10.5//
CALSCALE:GREGORIAN
X-WR-TIMEZONE:Europe/Dublin
BEGIN:VTIMEZONE
TZID:Etc/GMT-1
BEGIN:STANDARD
DTSTART:20010101T000000
TZOFFSETFROM:+0100
TZOFFSETTO:+0100
TZNAME:GMT +01:00
END:STANDARD
END:VTIMEZONE
BEGIN:VEVENT
UID:20260425T123906CEST-3840s5bsRv@horsealert.local
DTSTAMP:20260425T100406Z
CATEGORIES:Horse Alerts
DESCRIPTION:Book Now For Ladies Day 07.09.13 Median Auction Maiden Stakes
DTSTART:20130806T190000
LOCATION:England
SUMMARY:Horse Racing:Book Now For Ladies Day 07.09.13 Median Auction Maiden
  Stakes
END:VEVENT
END:VCALENDAR
