BEGIN:VCALENDAR
VERSION:2.0
PRODID:-//horsealert.local//NONSGML kigkonsult.se iCalcreator 2.10.5//
CALSCALE:GREGORIAN
X-WR-TIMEZONE:Europe/Dublin
BEGIN:VTIMEZONE
TZID:Etc/GMT-1
BEGIN:STANDARD
DTSTART:20010101T000000
TZOFFSETFROM:+0100
TZOFFSETTO:+0100
TZNAME:GMT +01:00
END:STANDARD
END:VTIMEZONE
BEGIN:VEVENT
UID:20260425T124038CEST-749390TVsp@horsealert.local
DTSTAMP:20260425T100438Z
CATEGORIES:Horse Alerts
DESCRIPTION:Conor Maynard Live At Kempton 14.09.13 Classified Stakes
DTSTART:20130806T180000
LOCATION:England
SUMMARY:Horse Racing:Conor Maynard Live At Kempton 14.09.13 Classified Stak
 es
END:VEVENT
END:VCALENDAR
