BEGIN:VCALENDAR
VERSION:2.0
PRODID:-//horsealert.local//NONSGML kigkonsult.se iCalcreator 2.10.5//
CALSCALE:GREGORIAN
X-WR-TIMEZONE:Europe/Dublin
BEGIN:VTIMEZONE
TZID:Etc/GMT-1
BEGIN:STANDARD
DTSTART:20010101T000000
TZOFFSETFROM:+0100
TZOFFSETTO:+0100
TZNAME:GMT +01:00
END:STANDARD
END:VTIMEZONE
BEGIN:VEVENT
UID:20260425T123947CEST-4296UKCkzu@horsealert.local
DTSTAMP:20260425T100447Z
CATEGORIES:Horse Alerts
DESCRIPTION:TBA/British Stallion Studs E.B.F. Fillies\' Handicap
DTSTART:20130806T163000
LOCATION:Wales
SUMMARY:Horse Racing:TBA/British Stallion Studs E.B.F. Fillies\' Handicap
END:VEVENT
END:VCALENDAR
