BEGIN:VCALENDAR
VERSION:2.0
PRODID:-//horsealert.local//NONSGML kigkonsult.se iCalcreator 2.10.5//
CALSCALE:GREGORIAN
X-WR-TIMEZONE:Europe/Dublin
BEGIN:VTIMEZONE
TZID:Etc/GMT-1
BEGIN:STANDARD
DTSTART:20010101T000000
TZOFFSETFROM:+0100
TZOFFSETTO:+0100
TZNAME:GMT +01:00
END:STANDARD
END:VTIMEZONE
BEGIN:VEVENT
UID:20260425T175331CEST-5109DkGj6P@horsealert.local
DTSTAMP:20260425T150431Z
CATEGORIES:Horse Alerts
DESCRIPTION:Sponsor A Race By Calling 01902 390000 Maiden Fillies\' Stakes
DTSTART:20130805T170000
LOCATION:England
SUMMARY:Horse Racing:Sponsor A Race By Calling 01902 390000 Maiden Fillies\
 ' Stakes
END:VEVENT
END:VCALENDAR
