BEGIN:VCALENDAR
VERSION:2.0
PRODID:-//horsealert.local//NONSGML kigkonsult.se iCalcreator 2.10.5//
CALSCALE:GREGORIAN
X-WR-TIMEZONE:Europe/Dublin
BEGIN:VTIMEZONE
TZID:Etc/GMT-1
BEGIN:STANDARD
DTSTART:20010101T000000
TZOFFSETFROM:+0100
TZOFFSETTO:+0100
TZNAME:GMT +01:00
END:STANDARD
END:VTIMEZONE
BEGIN:VEVENT
UID:20260425T123756CEST-8727WjowOO@horsealert.local
DTSTAMP:20260425T100456Z
CATEGORIES:Horse Alerts
DESCRIPTION:Lanes Handicap \(Pro-Am Lady Riders\)
DTSTART:20130805T181500
LOCATION:England
SUMMARY:Horse Racing:Lanes Handicap \(Pro-Am Lady Riders\)
END:VEVENT
END:VCALENDAR
