BEGIN:VCALENDAR
VERSION:2.0
PRODID:-//horsealert.local//NONSGML kigkonsult.se iCalcreator 2.10.5//
CALSCALE:GREGORIAN
X-WR-TIMEZONE:Europe/Dublin
BEGIN:VTIMEZONE
TZID:Etc/GMT-1
BEGIN:STANDARD
DTSTART:20010101T000000
TZOFFSETFROM:+0100
TZOFFSETTO:+0100
TZNAME:GMT +01:00
END:STANDARD
END:VTIMEZONE
BEGIN:VEVENT
UID:20260425T142544CEST-6556p8oF36@horsealert.local
DTSTAMP:20260425T120444Z
CATEGORIES:Horse Alerts
DESCRIPTION:Vision Express E.B.F. Mares Handicap Hurdle
DTSTART:20130804T152000
LOCATION:Eire
SUMMARY:Horse Racing:Vision Express E.B.F. Mares Handicap Hurdle
END:VEVENT
END:VCALENDAR
