BEGIN:VCALENDAR
VERSION:2.0
PRODID:-//horsealert.local//NONSGML kigkonsult.se iCalcreator 2.10.5//
CALSCALE:GREGORIAN
X-WR-TIMEZONE:Europe/Dublin
BEGIN:VTIMEZONE
TZID:Etc/GMT-1
BEGIN:STANDARD
DTSTART:20010101T000000
TZOFFSETFROM:+0100
TZOFFSETTO:+0100
TZNAME:GMT +01:00
END:STANDARD
END:VTIMEZONE
BEGIN:VEVENT
UID:20260425T123813CEST-5953hE9Z2F@horsealert.local
DTSTAMP:20260425T100413Z
CATEGORIES:Horse Alerts
DESCRIPTION:Shirley Anne Faill Memorial Fillies\' Handicap
DTSTART:20130803T165000
LOCATION:England
SUMMARY:Horse Racing:Shirley Anne Faill Memorial Fillies\' Handicap
END:VEVENT
END:VCALENDAR
