BEGIN:VCALENDAR
VERSION:2.0
PRODID:-//horsealert.local//NONSGML kigkonsult.se iCalcreator 2.10.5//
CALSCALE:GREGORIAN
X-WR-TIMEZONE:Europe/Dublin
BEGIN:VTIMEZONE
TZID:Etc/GMT-1
BEGIN:STANDARD
DTSTART:20010101T000000
TZOFFSETFROM:+0100
TZOFFSETTO:+0100
TZNAME:GMT +01:00
END:STANDARD
END:VTIMEZONE
BEGIN:VEVENT
UID:20260425T124255CEST-8973lTVo5k@horsealert.local
DTSTAMP:20260425T100455Z
CATEGORIES:Horse Alerts
DESCRIPTION:Margaret Smith Memorial Handicap \(Qualifier For The 15000 Betf
 air Scottish Stayers\' Series Final\)
DTSTART:20130803T204500
LOCATION:Scotland
SUMMARY:Horse Racing:Margaret Smith Memorial Handicap \(Qualifier For The 1
 5000 Betfair Scottish Stayers\' Series Final\)
END:VEVENT
END:VCALENDAR
