BEGIN:VCALENDAR
VERSION:2.0
PRODID:-//horsealert.local//NONSGML kigkonsult.se iCalcreator 2.10.5//
CALSCALE:GREGORIAN
X-WR-TIMEZONE:Europe/Dublin
BEGIN:VTIMEZONE
TZID:Etc/GMT-1
BEGIN:STANDARD
DTSTART:20010101T000000
TZOFFSETFROM:+0100
TZOFFSETTO:+0100
TZNAME:GMT +01:00
END:STANDARD
END:VTIMEZONE
BEGIN:VEVENT
UID:20260425T123942CEST-5965DBAhKa@horsealert.local
DTSTAMP:20260425T100442Z
CATEGORIES:Horse Alerts
DESCRIPTION:Robins Farm Racing Stewards\' Cup \(Heritage Handicap\)
DTSTART:20130803T155000
LOCATION:England
SUMMARY:Horse Racing:Robins Farm Racing Stewards\' Cup \(Heritage Handicap\
 )
END:VEVENT
END:VCALENDAR
