BEGIN:VCALENDAR
VERSION:2.0
PRODID:-//horsealert.local//NONSGML kigkonsult.se iCalcreator 2.10.5//
CALSCALE:GREGORIAN
X-WR-TIMEZONE:Europe/Dublin
BEGIN:VTIMEZONE
TZID:Etc/GMT-1
BEGIN:STANDARD
DTSTART:20010101T000000
TZOFFSETFROM:+0100
TZOFFSETTO:+0100
TZNAME:GMT +01:00
END:STANDARD
END:VTIMEZONE
BEGIN:VEVENT
UID:20260425T123959CEST-8405zlH6ef@horsealert.local
DTSTAMP:20260425T100459Z
CATEGORIES:Horse Alerts
DESCRIPTION:Markel Insurance Nassau Stakes \(British Champions Series\) \(F
 illies\' Group 1\)
DTSTART:20130803T151500
LOCATION:England
SUMMARY:Horse Racing:Markel Insurance Nassau Stakes \(British Champions Ser
 ies\) \(Fillies\' Group 1\)
END:VEVENT
END:VCALENDAR
