BEGIN:VCALENDAR
VERSION:2.0
PRODID:-//horsealert.local//NONSGML kigkonsult.se iCalcreator 2.10.5//
CALSCALE:GREGORIAN
X-WR-TIMEZONE:Europe/Dublin
BEGIN:VTIMEZONE
TZID:Etc/GMT-1
BEGIN:STANDARD
DTSTART:20010101T000000
TZOFFSETFROM:+0100
TZOFFSETTO:+0100
TZNAME:GMT +01:00
END:STANDARD
END:VTIMEZONE
BEGIN:VEVENT
UID:20260425T123758CEST-87883hu8II@horsealert.local
DTSTAMP:20260425T100458Z
CATEGORIES:Horse Alerts
DESCRIPTION:Market Cross Jewellers Handicap \(Div 1\)
DTSTART:20130802T160500
LOCATION:England
SUMMARY:Horse Racing:Market Cross Jewellers Handicap \(Div 1\)
END:VEVENT
END:VCALENDAR
