BEGIN:VCALENDAR
VERSION:2.0
PRODID:-//horsealert.local//NONSGML kigkonsult.se iCalcreator 2.10.5//
CALSCALE:GREGORIAN
X-WR-TIMEZONE:Europe/Dublin
BEGIN:VTIMEZONE
TZID:Etc/GMT-1
BEGIN:STANDARD
DTSTART:20010101T000000
TZOFFSETFROM:+0100
TZOFFSETTO:+0100
TZNAME:GMT +01:00
END:STANDARD
END:VTIMEZONE
BEGIN:VEVENT
UID:20260425T123731CEST-0236VKs2HI@horsealert.local
DTSTAMP:20260425T100431Z
CATEGORIES:Horse Alerts
DESCRIPTION:Symonds Founders Reserve Cider Handicap
DTSTART:20130802T180000
LOCATION:England
SUMMARY:Horse Racing:Symonds Founders Reserve Cider Handicap
END:VEVENT
END:VCALENDAR
