BEGIN:VCALENDAR
VERSION:2.0
PRODID:-//horsealert.local//NONSGML kigkonsult.se iCalcreator 2.10.5//
CALSCALE:GREGORIAN
X-WR-TIMEZONE:Europe/Dublin
BEGIN:VTIMEZONE
TZID:Etc/GMT-1
BEGIN:STANDARD
DTSTART:20010101T000000
TZOFFSETFROM:+0100
TZOFFSETTO:+0100
TZNAME:GMT +01:00
END:STANDARD
END:VTIMEZONE
BEGIN:VEVENT
UID:20260425T142502CEST-6788ad3ZV0@horsealert.local
DTSTAMP:20260425T120402Z
CATEGORIES:Horse Alerts
DESCRIPTION:40\,000 Tote Jackpot Guarantee Handicap Hurdle \(88-130\)
DTSTART:20130731T161000
LOCATION:Eire
SUMMARY:Horse Racing:40\,000 Tote Jackpot Guarantee Handicap Hurdle \(88-13
 0\)
END:VEVENT
END:VCALENDAR
