BEGIN:VCALENDAR
VERSION:2.0
PRODID:-//horsealert.local//NONSGML kigkonsult.se iCalcreator 2.10.5//
CALSCALE:GREGORIAN
X-WR-TIMEZONE:Europe/Dublin
BEGIN:VTIMEZONE
TZID:Etc/GMT-1
BEGIN:STANDARD
DTSTART:20010101T000000
TZOFFSETFROM:+0100
TZOFFSETTO:+0100
TZNAME:GMT +01:00
END:STANDARD
END:VTIMEZONE
BEGIN:VEVENT
UID:20260425T142614CEST-4271Z0D5ue@horsealert.local
DTSTAMP:20260425T120414Z
CATEGORIES:Horse Alerts
DESCRIPTION:Watch All Scottish Racing Live On RacingUK Novices\' Hurdle
DTSTART:20130730T180000
LOCATION:Scotland
SUMMARY:Horse Racing:Watch All Scottish Racing Live On RacingUK Novices\' H
 urdle
END:VEVENT
END:VCALENDAR
