BEGIN:VCALENDAR
VERSION:2.0
PRODID:-//horsealert.local//NONSGML kigkonsult.se iCalcreator 2.10.5//
CALSCALE:GREGORIAN
X-WR-TIMEZONE:Europe/Dublin
BEGIN:VTIMEZONE
TZID:Etc/GMT-1
BEGIN:STANDARD
DTSTART:20010101T000000
TZOFFSETFROM:+0100
TZOFFSETTO:+0100
TZNAME:GMT +01:00
END:STANDARD
END:VTIMEZONE
BEGIN:VEVENT
UID:20260425T142553CEST-8620xiUF3R@horsealert.local
DTSTAMP:20260425T120453Z
CATEGORIES:Horse Alerts
DESCRIPTION:Lady Jane Bethell Memorial Lady Riders\' Handicap \(Lady Amateu
 r Riders\)
DTSTART:20130730T174500
LOCATION:England
SUMMARY:Horse Racing:Lady Jane Bethell Memorial Lady Riders\' Handicap \(La
 dy Amateur Riders\)
END:VEVENT
END:VCALENDAR
