BEGIN:VCALENDAR
VERSION:2.0
PRODID:-//horsealert.local//NONSGML kigkonsult.se iCalcreator 2.10.5//
CALSCALE:GREGORIAN
X-WR-TIMEZONE:Europe/Dublin
BEGIN:VTIMEZONE
TZID:Etc/GMT-1
BEGIN:STANDARD
DTSTART:20010101T000000
TZOFFSETFROM:+0100
TZOFFSETTO:+0100
TZNAME:GMT +01:00
END:STANDARD
END:VTIMEZONE
BEGIN:VEVENT
UID:20260425T142502CEST-8546UsPurz@horsealert.local
DTSTAMP:20260425T120402Z
CATEGORIES:Horse Alerts
DESCRIPTION:Online Discounted Tickets At GreatYarmouth-Racecourse.co.uk Han
 dicap
DTSTART:20130730T162500
LOCATION:England
SUMMARY:Horse Racing:Online Discounted Tickets At GreatYarmouth-Racecourse.
 co.uk Handicap
END:VEVENT
END:VCALENDAR
