BEGIN:VCALENDAR
VERSION:2.0
PRODID:-//horsealert.local//NONSGML kigkonsult.se iCalcreator 2.10.5//
CALSCALE:GREGORIAN
X-WR-TIMEZONE:Europe/Dublin
BEGIN:VTIMEZONE
TZID:Etc/GMT-1
BEGIN:STANDARD
DTSTART:20010101T000000
TZOFFSETFROM:+0100
TZOFFSETTO:+0100
TZNAME:GMT +01:00
END:STANDARD
END:VTIMEZONE
BEGIN:VEVENT
UID:20260425T160247CEST-5499o2LGW4@horsealert.local
DTSTAMP:20260425T140447Z
CATEGORIES:Horse Alerts
DESCRIPTION:Media Resources Handicap Hurdle \(For The Ken Boulton Memorial 
 Trophy\)
DTSTART:20130729T195000
LOCATION:England
SUMMARY:Horse Racing:Media Resources Handicap Hurdle \(For The Ken Boulton 
 Memorial Trophy\)
END:VEVENT
END:VCALENDAR
