BEGIN:VCALENDAR
VERSION:2.0
PRODID:-//horsealert.local//NONSGML kigkonsult.se iCalcreator 2.10.5//
CALSCALE:GREGORIAN
X-WR-TIMEZONE:Europe/Dublin
BEGIN:VTIMEZONE
TZID:Etc/GMT-1
BEGIN:STANDARD
DTSTART:20010101T000000
TZOFFSETFROM:+0100
TZOFFSETTO:+0100
TZNAME:GMT +01:00
END:STANDARD
END:VTIMEZONE
BEGIN:VEVENT
UID:20260425T142621CEST-4542E0Zl5N@horsealert.local
DTSTAMP:20260425T120421Z
CATEGORIES:Horse Alerts
DESCRIPTION:Sean \'The Budgie\' Burgess Memorial Handicap Hurdle \(81-123\)
DTSTART:20130729T174000
LOCATION:Eire
SUMMARY:Horse Racing:Sean \'The Budgie\' Burgess Memorial Handicap Hurdle \
 (81-123\)
END:VEVENT
END:VCALENDAR
