BEGIN:VCALENDAR
VERSION:2.0
PRODID:-//horsealert.local//NONSGML kigkonsult.se iCalcreator 2.10.5//
CALSCALE:GREGORIAN
X-WR-TIMEZONE:Europe/Dublin
BEGIN:VTIMEZONE
TZID:Etc/GMT-1
BEGIN:STANDARD
DTSTART:20010101T000000
TZOFFSETFROM:+0100
TZOFFSETTO:+0100
TZNAME:GMT +01:00
END:STANDARD
END:VTIMEZONE
BEGIN:VEVENT
UID:20260425T142505CEST-7846PIdvGs@horsealert.local
DTSTAMP:20260425T120405Z
CATEGORIES:Horse Alerts
DESCRIPTION:Bathwick Tyres British Stallion Studs E.B.F. Maiden Stakes
DTSTART:20130727T191500
LOCATION:England
SUMMARY:Horse Racing:Bathwick Tyres British Stallion Studs E.B.F. Maiden St
 akes
END:VEVENT
END:VCALENDAR
