BEGIN:VCALENDAR
VERSION:2.0
PRODID:-//horsealert.local//NONSGML kigkonsult.se iCalcreator 2.10.5//
CALSCALE:GREGORIAN
X-WR-TIMEZONE:Europe/Dublin
BEGIN:VTIMEZONE
TZID:Etc/GMT-1
BEGIN:STANDARD
DTSTART:20010101T000000
TZOFFSETFROM:+0100
TZOFFSETTO:+0100
TZNAME:GMT +01:00
END:STANDARD
END:VTIMEZONE
BEGIN:VEVENT
UID:20260425T142552CEST-7551IE4Iz5@horsealert.local
DTSTAMP:20260425T120452Z
CATEGORIES:Horse Alerts
DESCRIPTION:newmarketexperience.co.uk Handicap \(London Mile Qualifier\)
DTSTART:20130726T204500
LOCATION:England
SUMMARY:Horse Racing:newmarketexperience.co.uk Handicap \(London Mile Quali
 fier\)
END:VEVENT
END:VCALENDAR
