BEGIN:VCALENDAR
VERSION:2.0
PRODID:-//horsealert.local//NONSGML kigkonsult.se iCalcreator 2.10.5//
CALSCALE:GREGORIAN
X-WR-TIMEZONE:Europe/Dublin
BEGIN:VTIMEZONE
TZID:Etc/GMT-1
BEGIN:STANDARD
DTSTART:20010101T000000
TZOFFSETFROM:+0100
TZOFFSETTO:+0100
TZNAME:GMT +01:00
END:STANDARD
END:VTIMEZONE
BEGIN:VEVENT
UID:20260425T162229CEST-2726dSmv8u@horsealert.local
DTSTAMP:20260425T140429Z
CATEGORIES:Horse Alerts
DESCRIPTION:crownhotel-bawtry.com Maiden Auction Fillies\' Stakes
DTSTART:20130725T181000
LOCATION:England
SUMMARY:Horse Racing:crownhotel-bawtry.com Maiden Auction Fillies\' Stakes
END:VEVENT
END:VCALENDAR
