BEGIN:VCALENDAR
VERSION:2.0
PRODID:-//horsealert.local//NONSGML kigkonsult.se iCalcreator 2.10.5//
CALSCALE:GREGORIAN
X-WR-TIMEZONE:Europe/Dublin
BEGIN:VTIMEZONE
TZID:Etc/GMT-1
BEGIN:STANDARD
DTSTART:20010101T000000
TZOFFSETFROM:+0100
TZOFFSETTO:+0100
TZNAME:GMT +01:00
END:STANDARD
END:VTIMEZONE
BEGIN:VEVENT
UID:20260425T175230CEST-8190vkHPzb@horsealert.local
DTSTAMP:20260425T150430Z
CATEGORIES:Horse Alerts
DESCRIPTION:Dark Angel E.B.F. Sweet Mimosa Stakes \(Fillies Listed\)
DTSTART:20130724T192500
LOCATION:Eire
SUMMARY:Horse Racing:Dark Angel E.B.F. Sweet Mimosa Stakes \(Fillies Listed
 \)
END:VEVENT
END:VCALENDAR
