BEGIN:VCALENDAR
VERSION:2.0
PRODID:-//horsealert.local//NONSGML kigkonsult.se iCalcreator 2.10.5//
CALSCALE:GREGORIAN
X-WR-TIMEZONE:Europe/Dublin
BEGIN:VTIMEZONE
TZID:Etc/GMT-1
BEGIN:STANDARD
DTSTART:20010101T000000
TZOFFSETFROM:+0100
TZOFFSETTO:+0100
TZNAME:GMT +01:00
END:STANDARD
END:VTIMEZONE
BEGIN:VEVENT
UID:20260425T160255CEST-6567Mr9bnU@horsealert.local
DTSTAMP:20260425T140455Z
CATEGORIES:Horse Alerts
DESCRIPTION:Slug And Lettuce Happy Mondays E.B.F. Maiden Stakes
DTSTART:20130724T185500
LOCATION:England
SUMMARY:Horse Racing:Slug And Lettuce Happy Mondays E.B.F. Maiden Stakes
END:VEVENT
END:VCALENDAR
