BEGIN:VCALENDAR
VERSION:2.0
PRODID:-//horsealert.local//NONSGML kigkonsult.se iCalcreator 2.10.5//
CALSCALE:GREGORIAN
X-WR-TIMEZONE:Europe/Dublin
BEGIN:VTIMEZONE
TZID:Etc/GMT-1
BEGIN:STANDARD
DTSTART:20010101T000000
TZOFFSETFROM:+0100
TZOFFSETTO:+0100
TZNAME:GMT +01:00
END:STANDARD
END:VTIMEZONE
BEGIN:VEVENT
UID:20260425T142559CEST-4776O36PPw@horsealert.local
DTSTAMP:20260425T120459Z
CATEGORIES:Horse Alerts
DESCRIPTION:McHale Engineering Hurdle
DTSTART:20130723T185500
LOCATION:Eire
SUMMARY:Horse Racing:McHale Engineering Hurdle
END:VEVENT
END:VCALENDAR
