BEGIN:VCALENDAR
VERSION:2.0
PRODID:-//horsealert.local//NONSGML kigkonsult.se iCalcreator 2.10.5//
CALSCALE:GREGORIAN
X-WR-TIMEZONE:Europe/Dublin
BEGIN:VTIMEZONE
TZID:Etc/GMT-1
BEGIN:STANDARD
DTSTART:20010101T000000
TZOFFSETFROM:+0100
TZOFFSETTO:+0100
TZNAME:GMT +01:00
END:STANDARD
END:VTIMEZONE
BEGIN:VEVENT
UID:20260425T162232CEST-5614wnl4Ps@horsealert.local
DTSTAMP:20260425T140432Z
CATEGORIES:Horse Alerts
DESCRIPTION:Mary Tudor Maiden Fillies Stakes
DTSTART:20130721T130000
LOCATION:France
SUMMARY:Horse Racing:Mary Tudor Maiden Fillies Stakes
END:VEVENT
END:VCALENDAR
