BEGIN:VCALENDAR
VERSION:2.0
PRODID:-//horsealert.local//NONSGML kigkonsult.se iCalcreator 2.10.5//
CALSCALE:GREGORIAN
X-WR-TIMEZONE:Europe/Dublin
BEGIN:VTIMEZONE
TZID:Etc/GMT-1
BEGIN:STANDARD
DTSTART:20010101T000000
TZOFFSETFROM:+0100
TZOFFSETTO:+0100
TZNAME:GMT +01:00
END:STANDARD
END:VTIMEZONE
BEGIN:VEVENT
UID:20260425T142850CEST-6594EVSoGO@horsealert.local
DTSTAMP:20260425T120450Z
CATEGORIES:Horse Alerts
DESCRIPTION:Grampy\'s 65 And We\'re Going Racing! Novices\' Handicap Hurdle
DTSTART:20130721T160000
LOCATION:England
SUMMARY:Horse Racing:Grampy\'s 65 And We\'re Going Racing! Novices\' Handic
 ap Hurdle
END:VEVENT
END:VCALENDAR
