BEGIN:VCALENDAR
VERSION:2.0
PRODID:-//horsealert.local//NONSGML kigkonsult.se iCalcreator 2.10.5//
CALSCALE:GREGORIAN
X-WR-TIMEZONE:Europe/Dublin
BEGIN:VTIMEZONE
TZID:Etc/GMT-1
BEGIN:STANDARD
DTSTART:20010101T000000
TZOFFSETFROM:+0100
TZOFFSETTO:+0100
TZNAME:GMT +01:00
END:STANDARD
END:VTIMEZONE
BEGIN:VEVENT
UID:20260425T142856CEST-0540lEwBvu@horsealert.local
DTSTAMP:20260425T120456Z
CATEGORIES:Horse Alerts
DESCRIPTION:Sycamore Lodge Equine Hospital European Breeders Fund Fillies H
 andicap
DTSTART:20130720T161000
LOCATION:Eire
SUMMARY:Horse Racing:Sycamore Lodge Equine Hospital European Breeders Fund 
 Fillies Handicap
END:VEVENT
END:VCALENDAR
