BEGIN:VCALENDAR
VERSION:2.0
PRODID:-//horsealert.local//NONSGML kigkonsult.se iCalcreator 2.10.5//
CALSCALE:GREGORIAN
X-WR-TIMEZONE:Europe/Dublin
BEGIN:VTIMEZONE
TZID:Etc/GMT-1
BEGIN:STANDARD
DTSTART:20010101T000000
TZOFFSETFROM:+0100
TZOFFSETTO:+0100
TZNAME:GMT +01:00
END:STANDARD
END:VTIMEZONE
BEGIN:VEVENT
UID:20260425T175331CEST-871857FlE2@horsealert.local
DTSTAMP:20260425T150431Z
CATEGORIES:Horse Alerts
DESCRIPTION:Highbank Stud Maiden Handicap
DTSTART:20130719T203500
LOCATION:England
SUMMARY:Horse Racing:Highbank Stud Maiden Handicap
END:VEVENT
END:VCALENDAR
