BEGIN:VCALENDAR
VERSION:2.0
PRODID:-//horsealert.local//NONSGML kigkonsult.se iCalcreator 2.10.5//
CALSCALE:GREGORIAN
X-WR-TIMEZONE:Europe/Dublin
BEGIN:VTIMEZONE
TZID:Etc/GMT-1
BEGIN:STANDARD
DTSTART:20010101T000000
TZOFFSETFROM:+0100
TZOFFSETTO:+0100
TZNAME:GMT +01:00
END:STANDARD
END:VTIMEZONE
BEGIN:VEVENT
UID:20260425T162212CEST-48081sO6jP@horsealert.local
DTSTAMP:20260425T140412Z
CATEGORIES:Horse Alerts
DESCRIPTION:Book Now For Ladies Night Apprentice Series Handicap \(Round Th
 ree Of Hamilton Park Apprentice Rider Series\)
DTSTART:20130719T181000
LOCATION:Scotland
SUMMARY:Horse Racing:Book Now For Ladies Night Apprentice Series Handicap \
 (Round Three Of Hamilton Park Apprentice Rider Series\)
END:VEVENT
END:VCALENDAR
