BEGIN:VCALENDAR
VERSION:2.0
PRODID:-//horsealert.local//NONSGML kigkonsult.se iCalcreator 2.10.5//
CALSCALE:GREGORIAN
X-WR-TIMEZONE:Europe/Dublin
BEGIN:VTIMEZONE
TZID:Etc/GMT-1
BEGIN:STANDARD
DTSTART:20010101T000000
TZOFFSETFROM:+0100
TZOFFSETTO:+0100
TZNAME:GMT +01:00
END:STANDARD
END:VTIMEZONE
BEGIN:VEVENT
UID:20260425T142503CEST-1317C1u9Df@horsealert.local
DTSTAMP:20260425T120403Z
CATEGORIES:Horse Alerts
DESCRIPTION:\'Hot House Flowers\' Apprentice Handicap
DTSTART:20130718T200500
LOCATION:Eire
SUMMARY:Horse Racing:\'Hot House Flowers\' Apprentice Handicap
END:VEVENT
END:VCALENDAR
