BEGIN:VCALENDAR
VERSION:2.0
PRODID:-//horsealert.local//NONSGML kigkonsult.se iCalcreator 2.10.5//
CALSCALE:GREGORIAN
X-WR-TIMEZONE:Europe/Dublin
BEGIN:VTIMEZONE
TZID:Etc/GMT-1
BEGIN:STANDARD
DTSTART:20010101T000000
TZOFFSETFROM:+0100
TZOFFSETTO:+0100
TZNAME:GMT +01:00
END:STANDARD
END:VTIMEZONE
BEGIN:VEVENT
UID:20260425T142759CEST-7331WfF2VI@horsealert.local
DTSTAMP:20260425T120459Z
CATEGORIES:Horse Alerts
DESCRIPTION:Terry Bellas Memorial Conditions Stakes \(Str\)
DTSTART:20130718T192500
LOCATION:England
SUMMARY:Horse Racing:Terry Bellas Memorial Conditions Stakes \(Str\)
END:VEVENT
END:VCALENDAR
