BEGIN:VCALENDAR
VERSION:2.0
PRODID:-//horsealert.local//NONSGML kigkonsult.se iCalcreator 2.10.5//
CALSCALE:GREGORIAN
X-WR-TIMEZONE:Europe/Dublin
BEGIN:VTIMEZONE
TZID:Etc/GMT-1
BEGIN:STANDARD
DTSTART:20010101T000000
TZOFFSETFROM:+0100
TZOFFSETTO:+0100
TZNAME:GMT +01:00
END:STANDARD
END:VTIMEZONE
BEGIN:VEVENT
UID:20260425T142711CEST-9489Ic1xNH@horsealert.local
DTSTAMP:20260425T120411Z
CATEGORIES:Horse Alerts
DESCRIPTION:Freebets.co.uk Free Bets British Stallion Studs E.B.F. Maiden F
 illies\' Stakes
DTSTART:20130718T185000
LOCATION:England
SUMMARY:Horse Racing:Freebets.co.uk Free Bets British Stallion Studs E.B.F.
  Maiden Fillies\' Stakes
END:VEVENT
END:VCALENDAR
