BEGIN:VCALENDAR
VERSION:2.0
PRODID:-//horsealert.local//NONSGML kigkonsult.se iCalcreator 2.10.5//
CALSCALE:GREGORIAN
X-WR-TIMEZONE:Europe/Dublin
BEGIN:VTIMEZONE
TZID:Etc/GMT-1
BEGIN:STANDARD
DTSTART:20010101T000000
TZOFFSETFROM:+0100
TZOFFSETTO:+0100
TZNAME:GMT +01:00
END:STANDARD
END:VTIMEZONE
BEGIN:VEVENT
UID:20260425T162213CEST-0618dN7HVd@horsealert.local
DTSTAMP:20260425T140413Z
CATEGORIES:Horse Alerts
DESCRIPTION:BetVictor Open Championship 8 Places Exclusive Handicap Chase
DTSTART:20130717T165000
LOCATION:England
SUMMARY:Horse Racing:BetVictor Open Championship 8 Places Exclusive Handica
 p Chase
END:VEVENT
END:VCALENDAR
