BEGIN:VCALENDAR
VERSION:2.0
PRODID:-//horsealert.local//NONSGML kigkonsult.se iCalcreator 2.10.5//
CALSCALE:GREGORIAN
X-WR-TIMEZONE:Europe/Dublin
BEGIN:VTIMEZONE
TZID:Etc/GMT-1
BEGIN:STANDARD
DTSTART:20010101T000000
TZOFFSETFROM:+0100
TZOFFSETTO:+0100
TZNAME:GMT +01:00
END:STANDARD
END:VTIMEZONE
BEGIN:VEVENT
UID:20260425T162235CEST-1077AHBUKi@horsealert.local
DTSTAMP:20260425T140435Z
CATEGORIES:Horse Alerts
DESCRIPTION:Emerson Cranes/British Stallion Studs E.B.F. Maiden Fillies\' S
 takes \(Div 1\) \(AWT\)
DTSTART:20130717T160000
LOCATION:England
SUMMARY:Horse Racing:Emerson Cranes/British Stallion Studs E.B.F. Maiden Fi
 llies\' Stakes \(Div 1\) \(AWT\)
END:VEVENT
END:VCALENDAR
