BEGIN:VCALENDAR
VERSION:2.0
PRODID:-//horsealert.local//NONSGML kigkonsult.se iCalcreator 2.10.5//
CALSCALE:GREGORIAN
X-WR-TIMEZONE:Europe/Dublin
BEGIN:VTIMEZONE
TZID:Etc/GMT-1
BEGIN:STANDARD
DTSTART:20010101T000000
TZOFFSETFROM:+0100
TZOFFSETTO:+0100
TZNAME:GMT +01:00
END:STANDARD
END:VTIMEZONE
BEGIN:VEVENT
UID:20260425T142740CEST-8407StVMEI@horsealert.local
DTSTAMP:20260425T120440Z
CATEGORIES:Horse Alerts
DESCRIPTION:Martigny Chase
DTSTART:20130715T113000
LOCATION:France
SUMMARY:Horse Racing:Martigny Chase
END:VEVENT
END:VCALENDAR
