BEGIN:VCALENDAR
VERSION:2.0
PRODID:-//horsealert.local//NONSGML kigkonsult.se iCalcreator 2.10.5//
CALSCALE:GREGORIAN
X-WR-TIMEZONE:Europe/Dublin
BEGIN:VTIMEZONE
TZID:Etc/GMT-1
BEGIN:STANDARD
DTSTART:20010101T000000
TZOFFSETFROM:+0100
TZOFFSETTO:+0100
TZNAME:GMT +01:00
END:STANDARD
END:VTIMEZONE
BEGIN:VEVENT
UID:20260425T142744CEST-7542R1Wn35@horsealert.local
DTSTAMP:20260425T120444Z
CATEGORIES:Horse Alerts
DESCRIPTION:Birmingham Post Handicap Chase \(For The Stratford Summer Cup\)
  \(Sunday 5k Bonus Race\)
DTSTART:20130714T155000
LOCATION:England
SUMMARY:Horse Racing:Birmingham Post Handicap Chase \(For The Stratford Sum
 mer Cup\) \(Sunday 5k Bonus Race\)
END:VEVENT
END:VCALENDAR
