BEGIN:VCALENDAR
VERSION:2.0
PRODID:-//horsealert.local//NONSGML kigkonsult.se iCalcreator 2.10.5//
CALSCALE:GREGORIAN
X-WR-TIMEZONE:Europe/Dublin
BEGIN:VTIMEZONE
TZID:Etc/GMT-1
BEGIN:STANDARD
DTSTART:20010101T000000
TZOFFSETFROM:+0100
TZOFFSETTO:+0100
TZNAME:GMT +01:00
END:STANDARD
END:VTIMEZONE
BEGIN:VEVENT
UID:20260425T142743CEST-7519a6UaJJ@horsealert.local
DTSTAMP:20260425T120443Z
CATEGORIES:Horse Alerts
DESCRIPTION:Celebrating Newmarket - Historic Home Of Horse Racing Maiden St
 akes
DTSTART:20130712T162500
LOCATION:England
SUMMARY:Horse Racing:Celebrating Newmarket - Historic Home Of Horse Racing 
 Maiden Stakes
END:VEVENT
END:VCALENDAR
